BEGIN:VCALENDAR
VERSION:2.0
PRODID:-//Amt Gransee und Gemeinden - ECPv6.15.17.1//NONSGML v1.0//EN
CALSCALE:GREGORIAN
METHOD:PUBLISH
X-ORIGINAL-URL:https://www.gransee.de
X-WR-CALDESC:Veranstaltungen für Amt Gransee und Gemeinden
REFRESH-INTERVAL;VALUE=DURATION:PT1H
X-Robots-Tag:noindex
X-PUBLISHED-TTL:PT1H
BEGIN:VTIMEZONE
TZID:Europe/Berlin
BEGIN:DAYLIGHT
TZOFFSETFROM:+0100
TZOFFSETTO:+0200
TZNAME:CEST
DTSTART:20250330T010000
END:DAYLIGHT
BEGIN:STANDARD
TZOFFSETFROM:+0200
TZOFFSETTO:+0100
TZNAME:CET
DTSTART:20251026T010000
END:STANDARD
BEGIN:DAYLIGHT
TZOFFSETFROM:+0100
TZOFFSETTO:+0200
TZNAME:CEST
DTSTART:20260329T010000
END:DAYLIGHT
BEGIN:STANDARD
TZOFFSETFROM:+0200
TZOFFSETTO:+0100
TZNAME:CET
DTSTART:20261025T010000
END:STANDARD
BEGIN:DAYLIGHT
TZOFFSETFROM:+0100
TZOFFSETTO:+0200
TZNAME:CEST
DTSTART:20270328T010000
END:DAYLIGHT
BEGIN:STANDARD
TZOFFSETFROM:+0200
TZOFFSETTO:+0100
TZNAME:CET
DTSTART:20271031T010000
END:STANDARD
END:VTIMEZONE
BEGIN:VEVENT
DTSTART;TZID=Europe/Berlin:20260318T140000
DTEND;TZID=Europe/Berlin:20260318T140000
DTSTAMP:20260424T030052
CREATED:20260219T080048Z
LAST-MODIFIED:20260219T080048Z
UID:25123-1773842400-1773842400@www.gransee.de
SUMMARY:Granseer Klatschcafe
DESCRIPTION:Das Granseer Klatschcafe lädt ein \nFrank Nussbücker stellt die Biografie von Urte Blankenstein „Mein Leben als Frau Puppendoktor Pille“ vor \n  \n18.03.2026 \nGemeindehaus Gransee\, Klosterstraße 2a \nUm 14:00 Uhr Kaffee und Kuchen \n14:30 Uhr Beginn der Lesung \n  \nUm Anmeldung wird gebeten unter 03306 751 121 \n  \nPlakat: Granseer Klatschcafe am 18.3.2026
URL:https://www.gransee.de/event/granseer-klatschcafe-16/
LOCATION:Gemeindehaus\, Klosterstraße 2a\, Gransee\, 16775
END:VEVENT
BEGIN:VEVENT
DTSTART;TZID=Europe/Berlin:20260121T140000
DTEND;TZID=Europe/Berlin:20260121T160000
DTSTAMP:20260424T030052
CREATED:20260107T090219Z
LAST-MODIFIED:20260107T090219Z
UID:24868-1769004000-1769011200@www.gransee.de
SUMMARY:Buchlesung - Granseer Geschichten
DESCRIPTION:10 Jahre Granseer Geschichten \n  \nLesung Granseer Geschichten 21.01.2026 \n  \n 
URL:https://www.gransee.de/event/buchlesung-granseer-geschichten/
LOCATION:Gemeindehaus\, Klosterstraße 2a\, Gransee\, 16775
END:VEVENT
END:VCALENDAR