BEGIN:VCALENDAR
VERSION:2.0
PRODID:-//Amt Gransee und Gemeinden - ECPv6.15.17.1//NONSGML v1.0//EN
CALSCALE:GREGORIAN
METHOD:PUBLISH
X-WR-CALNAME:Amt Gransee und Gemeinden
X-ORIGINAL-URL:https://www.gransee.de
X-WR-CALDESC:Veranstaltungen für Amt Gransee und Gemeinden
REFRESH-INTERVAL;VALUE=DURATION:PT1H
X-Robots-Tag:noindex
X-PUBLISHED-TTL:PT1H
BEGIN:VTIMEZONE
TZID:Europe/Berlin
BEGIN:DAYLIGHT
TZOFFSETFROM:+0100
TZOFFSETTO:+0200
TZNAME:CEST
DTSTART:20250330T010000
END:DAYLIGHT
BEGIN:STANDARD
TZOFFSETFROM:+0200
TZOFFSETTO:+0100
TZNAME:CET
DTSTART:20251026T010000
END:STANDARD
BEGIN:DAYLIGHT
TZOFFSETFROM:+0100
TZOFFSETTO:+0200
TZNAME:CEST
DTSTART:20260329T010000
END:DAYLIGHT
BEGIN:STANDARD
TZOFFSETFROM:+0200
TZOFFSETTO:+0100
TZNAME:CET
DTSTART:20261025T010000
END:STANDARD
BEGIN:DAYLIGHT
TZOFFSETFROM:+0100
TZOFFSETTO:+0200
TZNAME:CEST
DTSTART:20270328T010000
END:DAYLIGHT
BEGIN:STANDARD
TZOFFSETFROM:+0200
TZOFFSETTO:+0100
TZNAME:CET
DTSTART:20271031T010000
END:STANDARD
END:VTIMEZONE
BEGIN:VEVENT
DTSTART;TZID=Europe/Berlin:20260411T100000
DTEND;TZID=Europe/Berlin:20260628T160000
DTSTAMP:20260421T110609
CREATED:20260317T090615Z
LAST-MODIFIED:20260317T090615Z
UID:25202-1775901600-1782662400@www.gransee.de
SUMMARY:Ausstellung Gudrun Lomas Farbenspiele
DESCRIPTION:Vernissage 11.April; 15 Uhr im Ruppiner Tor Gransee \nEin Projekt von KuNo e.V. vom 11. April bis 28.Juni \nDi – Fr. 10- 16 Uhr\, Sa &. So. 12 – 16 Uhr \nDer Schlüssel wird im Heimatmuseum ausgehändigt in der Rudolf- Breitscheid Straße 44.
URL:https://www.gransee.de/event/ausstellung-gudrun-lomas-farbenspiele/2026-04-11/
LOCATION:Ruppiner Tor\, Gransee\, Brandenburg\, 16775\, Deutschland
ORGANIZER;CN="KuNO e.V Kulturbnetz ord Brandenbrg":MAILTO:mail@karla-sachse.de
END:VEVENT
BEGIN:VEVENT
DTSTART;TZID=Europe/Berlin:20260411T120000
DTEND;TZID=Europe/Berlin:20260628T160000
DTSTAMP:20260421T110610
CREATED:20260317T090839Z
LAST-MODIFIED:20260317T090839Z
UID:25204-1775908800-1782662400@www.gransee.de
SUMMARY:Ausstellung Gudrun Lomas Farbenspiele
DESCRIPTION:Vernissage 11.April; 15 Uhr im Ruppiner Tor Gransee \nEin Projekt von KuNo e.V. vom 11. April bis 28.Juni \nDi – Fr. 10- 16 Uhr\, Sa &. So. 12 – 16 Uhr \nDer Schlüssel wird im Heimatmuseum ausgehändigt in der Rudolf- Breitscheid Straße 44.
URL:https://www.gransee.de/event/ausstellung-gudrun-lomas-farbenspiele-2/2026-04-11/
LOCATION:Ruppiner Tor\, Gransee\, Brandenburg\, 16775\, Deutschland
ORGANIZER;CN="KuNO e.V Kulturbnetz ord Brandenbrg":MAILTO:mail@karla-sachse.de
END:VEVENT
BEGIN:VEVENT
DTSTART;TZID=Europe/Berlin:20260422T193000
DTEND;TZID=Europe/Berlin:20260422T193000
DTSTAMP:20260421T110610
CREATED:20260410T083745Z
LAST-MODIFIED:20260410T083745Z
UID:25275-1776886200-1776886200@www.gransee.de
SUMMARY:Premiere Buchvorstellung ZUNEHMENDE TRÜBUNG (Autor Björn Kröger)  Geschichte eines klaren Sees
DESCRIPTION:22.5.26 19:30 Uhr Premiere Buchvorstellung ZUNEHMENDE TRÜBUNG (Autor Björn Kröger) \n  \nGeschichte eines klaren Sees \n  \nBjörn Kröger (Curator of the Palaeontological Collection\, PhD | Docent | Associate Professor Finnish Museum of Natural History) ist am Stechlinsee in Neuglobsow aufgewachsen. Nach seiner Lehre zum Maschinisten im Kernkraftwerk ist er weggezogen. Heute stellt er sein neues Buch vor. \n  \nLesung – Eintritt frei \n  \nVeranstalter/Kontakt: \n  \nBegegnungsstätte Stechlin e.V.\, Stechlinseestraße 17\, 16775 Stechlin
URL:https://www.gransee.de/event/premiere-buchvorstellung-zunehmende-truebung-autor-bjoern-kroeger-geschichte-eines-klaren-sees/
LOCATION:Stechlinsee-Center\, Stechlinseestraße 17\, Stechlin OT Neuglobsow\, Brandenburg\, 16775\, Deutschland
END:VEVENT
BEGIN:VEVENT
DTSTART;TZID=Europe/Berlin:20260424T140000
DTEND;TZID=Europe/Berlin:20260424T163000
DTSTAMP:20260421T110610
CREATED:20260319T090651Z
LAST-MODIFIED:20260319T090651Z
UID:25208-1777039200-1777048200@www.gransee.de
SUMMARY:Einladung zum Frühling feiern in Gransee
DESCRIPTION:Wir beerdigen die schlechte Laune! \nEinladung zum Frühling feiern in Gransee \nDer Frühling ist da – und mit ihm die Lust\, draußen zu sein\, zusammen zu kommen und Pläne zu schmieden. Dafür braucht es nicht viel: ein paar Tische und Bänke\, gutes Essen\, Getränke und Menschen\, die Lust haben\, miteinander zu schnacken. \nGenau dazu lädt unserere gemeinschaftliche Frühlingsaktion am 24. April von 14 – 16.30 Uhr auf den Kirchplatz ein. \nGeplant ist eine Mitbring-Kuchentafel mit Pflanzentausch. Verschiedene Vereine\, Gruppen und Initiativen werden vor Ort sein und freuen sich auf Austausch und Begegnung. Alle sind herzlich willkommen. Kommt vorbei mit selbstgezogenen Pflanzen\, mit Samen\, mit Kuchen und mit Neugier auf das was die Nachbarn im Gepäck haben. \nInitiiert wird die Aktion vom Mitmachprojekt JUT ESSEN\, dem Unternehmerverein Gransee und Gemeinden und dem Verein Große für Kleine. Sie ist zugleich Auftakt für eine größere Idee: Unter dem Titel „kostbar – Essbare Städte“ geht es darum\, Innenstädte lebendiger und gemeinschaftlicher zu gestalten – durch Aktionen\, die Menschen zusammenbringen und auch durch essbare Pflanzen im öffentlichen Raum. Dabei stehen Entdecken und Wertschätzen im Mittelpunkt – Riechen\, Schmecken\, Ausprobieren\, Zuhören\, Verstehen\, gemeinsame Ideen voranbringen. \nEinige Vorhaben stehen bereits: gemeinsames Kochen und Essen\, offener Schulgarten\, Workshops beim Gemeinschaftsacker\, das Sichtbarmachen von Obstalleen\, das Verarbeiten der Ernte\,Wertschätzen von Trinkwasser…. Bestehendes wird sichtbar und Neues auf den Weg gebracht. Mit dieser Idee haben sich Gransee\, Fürstenberg/Havel und Zehdenick auch beim Innenstadtwettbewerb Brandenburg beworben. \nEin gemeinsamer Kalender auf der Seite www.jut-essen.de lädt künftig dazu ein\, auch die Veranstaltungen in den Nachbarstädten zu besuchen. Denn jede Stadt setzt eigene Schwerpunkte – und genau darin liegt der Reiz des gemeinsamen Projekts der drei Kommunen. \nWer Lust hat\, sich einzubringen\, ist herzlich eingeladen! Bitte schreiben an hallo@jut-essen.de.
URL:https://www.gransee.de/event/einladung-zum-fruehling-feiern-in-gransee/
LOCATION:Kirchplatz\, Kirchplatz\, Gransee\, Brandenburg\, 16775
END:VEVENT
BEGIN:VEVENT
DTSTART;TZID=Europe/Berlin:20260425T000000
DTEND;TZID=Europe/Berlin:20260425T000000
DTSTAMP:20260421T110610
CREATED:20260209T080229Z
LAST-MODIFIED:20260209T080229Z
UID:25049-1777075200-1777075200@www.gransee.de
SUMMARY:Frühjahrsputz und Enthüllung der Schautafel zur Dorfgeschichte
DESCRIPTION:Ansprechpartner Orga-Team: Herbert Brauer\, Charlyn Rau\, Nadine Hoddow\, der Ortsbeirat
URL:https://www.gransee.de/event/fruehjahrsputz-und-enthuellung-der-schautafel-zur-dorfgeschichte/
LOCATION:Großwoltersdorf\, Großwoltersdorf\, Brandenburg\, 16775\, Deutschland
END:VEVENT
BEGIN:VEVENT
DTSTART;TZID=Europe/Berlin:20260425T000000
DTEND;TZID=Europe/Berlin:20260426T000000
DTSTAMP:20260421T110610
CREATED:20251219T100708Z
LAST-MODIFIED:20251219T100708Z
UID:24820-1777075200-1777161600@www.gransee.de
SUMMARY:Pferdeleistungsschau
DESCRIPTION:Reitverein Altlüdersdorf e.V. \nMartina Grunwald \nMgrunwald1108@aol.com
URL:https://www.gransee.de/event/pferdeleistungsschau-5/
LOCATION:Reitplatz Altlüdersdorf
END:VEVENT
BEGIN:VEVENT
DTSTART;TZID=Europe/Berlin:20260425T180000
DTEND;TZID=Europe/Berlin:20260425T180000
DTSTAMP:20260421T110610
CREATED:20260105T101210Z
LAST-MODIFIED:20260105T101210Z
UID:24866-1777140000-1777140000@www.gransee.de
SUMMARY:Kino
DESCRIPTION:Titel: „Der Held vom Bahnhof Friedrichstraße“ \nEintritt: 3\,-€ / 5\,-€ \n 
URL:https://www.gransee.de/event/kino-4/
LOCATION:Dorfkrug Meseberg\, Meseberger Dorfstraße 14\, Gransee\, OT Meseberg\, Brandenburg\, 16775\, Germany
END:VEVENT
BEGIN:VEVENT
DTSTART;TZID=Europe/Berlin:20260425T190000
DTEND;TZID=Europe/Berlin:20260425T190000
DTSTAMP:20260421T110610
CREATED:20260210T124236Z
LAST-MODIFIED:20260303T081807Z
UID:25081-1777143600-1777143600@www.gransee.de
SUMMARY:Zeitzeugengespräch am 25. April 2026\, 19 Uhr im Stechlinsee-Center Neuglobsow – Eintritt frei
DESCRIPTION:Zeitzeugengespräch im Stechlinsee-Center Neuglobsow  \n  \nHäuser aus Neuglobsow und Dagow und ihre Geschichte(n) \n  \nNachdem vor knapp 130 Jahren Fontanes Roman „Der Stechlin“ erschienen war\, begann Neuglobsow sich rasant zu verändern. Während das Dorf bis dahin im Wesentlichen durch die Glasmacherhäuser geprägt war\, entstanden nun\, von den Nullerjahren bis in die Dreißigerjahre des 20. Jahrhunderts\, die bis heute bekannten Villen und Sommerhäuser: Eulenhaus\, Landhaus Labes\, Haus Hirschberg\, Versunkene Glocke\, Villa Bernadotte\, um nur einige zu nennen. Auch Dagow veränderte sich und wuchs heran. Hier entstand u.a. das Haus Ammerland. \n  \nVon diesen\, aber auch von Häusern\, die ihre Eigentümer gewechselt haben\, gibt es Fotos und auch Baupläne\, die wir im Zeitzeugengespräch zeigen wollen und zu deren Geschichten wir mit den jetzigen „Hausherren und -damen“ und dem Publikum ins Gespräch kommen wollen. Fünf Häuser werden wir uns genauer anschauen\, zu denen die heutigen Bewohner mit ihren Familien-Anekdoten aus der Bauzeit und persönlichen Erlebnissen zu Worte kommen werden. \n– Eintritt frei \n  \nVorbereitungsteam: Ruth Curio\, Carola und Andreas Kalisch\, Joachim Krebser \nKontakt: krebser@stechlinsee-center.de
URL:https://www.gransee.de/event/zeitzeugengespraech-am-25-april-2026-19-uhr-im-stechlinsee-center-neuglobsow-eintritt-frei/
LOCATION:Stechlinsee-Center\, Stechlinseestraße 17\, Stechlin OT Neuglobsow\, Brandenburg\, 16775\, Deutschland
END:VEVENT
BEGIN:VEVENT
DTSTART;TZID=Europe/Berlin:20260427T154500
DTEND;TZID=Europe/Berlin:20260427T164500
DTSTAMP:20260421T110610
CREATED:20251215T103100Z
LAST-MODIFIED:20251215T103100Z
UID:24520-1777304700-1777308300@www.gransee.de
SUMMARY:Step Aerobic
DESCRIPTION:Kontakt: \nBlitz e.V. Gransee \nAnja Rossa \nTel. 01736435123
URL:https://www.gransee.de/event/step-aerobic-4/2026-04-27/
LOCATION:Dreifelderhalle Gransee\, Gransee\, 16775
END:VEVENT
BEGIN:VEVENT
DTSTART;TZID=Europe/Berlin:20260427T160000
DTEND;TZID=Europe/Berlin:20260427T180000
DTSTAMP:20260421T110610
CREATED:20251215T103413Z
LAST-MODIFIED:20251215T103413Z
UID:24562-1777305600-1777312800@www.gransee.de
SUMMARY:Volleyball
DESCRIPTION:Kontakt: \nBlitz e.V. Gransee \nFrank Taubert \nTel. 01732776391
URL:https://www.gransee.de/event/volleyball-4/2026-04-27/
LOCATION:Dreifelderhalle Gransee\, Gransee\, 16775
END:VEVENT
BEGIN:VEVENT
DTSTART;TZID=Europe/Berlin:20260429T140000
DTEND;TZID=Europe/Berlin:20260429T170000
DTSTAMP:20260421T110610
CREATED:20260324T103418Z
LAST-MODIFIED:20260324T103418Z
UID:25229-1777471200-1777482000@www.gransee.de
SUMMARY:Seniorentanz in den Mai mit DJ Wolle
DESCRIPTION:Seniorentanz in den Mai mit DJ Wolle am 29.04.2026 \n14:00 – 17:00 Uhr \nIm Hospital Global \nUnkostenbeitrag: 8\,00 € \n  \nUm Anmeldung wird gebeten \n03306 751 121 \ni.richter@gransee.de  \nPlakat: Seniorentanz in den Mai 29.04.2026
URL:https://www.gransee.de/event/seniorentanz-in-den-mai-mit-dj-wolle/
LOCATION:„Hospital Global“\, Ruppiner Straße 8\, Gransee\, Brandenburg\, 16775\, Deutschland
END:VEVENT
BEGIN:VEVENT
DTSTART;TZID=Europe/Berlin:20260430T000000
DTEND;TZID=Europe/Berlin:20260430T000000
DTSTAMP:20260421T110610
CREATED:20260407T090945Z
LAST-MODIFIED:20260407T090945Z
UID:25242-1777507200-1777507200@www.gransee.de
SUMMARY:Wallpurgis - Feuer
DESCRIPTION:
URL:https://www.gransee.de/event/wallpurgis-feuer/
LOCATION:Buberow\, Buberow\, 16775
END:VEVENT
BEGIN:VEVENT
DTSTART;TZID=Europe/Berlin:20260430T190000
DTEND;TZID=Europe/Berlin:20260501T000000
DTSTAMP:20260421T110610
CREATED:20251215T134634Z
LAST-MODIFIED:20260303T081958Z
UID:24665-1777575600-1777593600@www.gransee.de
SUMMARY:Tanz in den Mai
DESCRIPTION:„Tanz in den Mai“ im Stechlinsee – Center  \n– mit DJ Locke und Live-Musik von KIOSQUE aus Neuglobsow/Berlin. \nEin Trio (Gitarre/Gesang\, Bass/Gesang\, Schlagzeug/Gesang) und machen deutschsprachige Rockmusik mit eigenen Songs. Der Eintritt ist frei. \nKontakt: kontakt@stechlinsee-center.de \n  \n 
URL:https://www.gransee.de/event/tanz-in-den-mai-5/
LOCATION:Stechlinsee-Center\, Stechlinseestraße 17\, Stechlin OT Neuglobsow\, Brandenburg\, 16775\, Deutschland
END:VEVENT
BEGIN:VEVENT
DTSTART;TZID=Europe/Berlin:20260501T000000
DTEND;TZID=Europe/Berlin:20260501T000000
DTSTAMP:20260421T110610
CREATED:20251219T090637Z
LAST-MODIFIED:20251219T090637Z
UID:24791-1777593600-1777593600@www.gransee.de
SUMMARY:Vernissage
DESCRIPTION:Malerei & Plastik (Cornelia Weihe)
URL:https://www.gransee.de/event/vernissage-2/
LOCATION:Gutshaus Zernikow
END:VEVENT
END:VCALENDAR