BEGIN:VCALENDAR
VERSION:2.0
PRODID:-//Amt Gransee und Gemeinden - ECPv6.15.17.1//NONSGML v1.0//EN
CALSCALE:GREGORIAN
METHOD:PUBLISH
X-WR-CALNAME:Amt Gransee und Gemeinden
X-ORIGINAL-URL:https://www.gransee.de
X-WR-CALDESC:Veranstaltungen für Amt Gransee und Gemeinden
REFRESH-INTERVAL;VALUE=DURATION:PT1H
X-Robots-Tag:noindex
X-PUBLISHED-TTL:PT1H
BEGIN:VTIMEZONE
TZID:Europe/Berlin
BEGIN:DAYLIGHT
TZOFFSETFROM:+0100
TZOFFSETTO:+0200
TZNAME:CEST
DTSTART:20250330T010000
END:DAYLIGHT
BEGIN:STANDARD
TZOFFSETFROM:+0200
TZOFFSETTO:+0100
TZNAME:CET
DTSTART:20251026T010000
END:STANDARD
BEGIN:DAYLIGHT
TZOFFSETFROM:+0100
TZOFFSETTO:+0200
TZNAME:CEST
DTSTART:20260329T010000
END:DAYLIGHT
BEGIN:STANDARD
TZOFFSETFROM:+0200
TZOFFSETTO:+0100
TZNAME:CET
DTSTART:20261025T010000
END:STANDARD
BEGIN:DAYLIGHT
TZOFFSETFROM:+0100
TZOFFSETTO:+0200
TZNAME:CEST
DTSTART:20270328T010000
END:DAYLIGHT
BEGIN:STANDARD
TZOFFSETFROM:+0200
TZOFFSETTO:+0100
TZNAME:CET
DTSTART:20271031T010000
END:STANDARD
END:VTIMEZONE
BEGIN:VEVENT
DTSTART;TZID=Europe/Berlin:20260411T100000
DTEND;TZID=Europe/Berlin:20260628T160000
DTSTAMP:20260423T212334
CREATED:20260317T090615Z
LAST-MODIFIED:20260317T090615Z
UID:25202-1775901600-1782662400@www.gransee.de
SUMMARY:Ausstellung Gudrun Lomas Farbenspiele
DESCRIPTION:Vernissage 11.April; 15 Uhr im Ruppiner Tor Gransee \nEin Projekt von KuNo e.V. vom 11. April bis 28.Juni \nDi – Fr. 10- 16 Uhr\, Sa &. So. 12 – 16 Uhr \nDer Schlüssel wird im Heimatmuseum ausgehändigt in der Rudolf- Breitscheid Straße 44.
URL:https://www.gransee.de/event/ausstellung-gudrun-lomas-farbenspiele/2026-04-11/
LOCATION:Ruppiner Tor\, Gransee\, Brandenburg\, 16775\, Deutschland
ORGANIZER;CN="KuNO e.V Kulturbnetz ord Brandenbrg":MAILTO:mail@karla-sachse.de
END:VEVENT
BEGIN:VEVENT
DTSTART;TZID=Europe/Berlin:20260411T120000
DTEND;TZID=Europe/Berlin:20260628T160000
DTSTAMP:20260423T212334
CREATED:20260317T090839Z
LAST-MODIFIED:20260317T090839Z
UID:25204-1775908800-1782662400@www.gransee.de
SUMMARY:Ausstellung Gudrun Lomas Farbenspiele
DESCRIPTION:Vernissage 11.April; 15 Uhr im Ruppiner Tor Gransee \nEin Projekt von KuNo e.V. vom 11. April bis 28.Juni \nDi – Fr. 10- 16 Uhr\, Sa &. So. 12 – 16 Uhr \nDer Schlüssel wird im Heimatmuseum ausgehändigt in der Rudolf- Breitscheid Straße 44.
URL:https://www.gransee.de/event/ausstellung-gudrun-lomas-farbenspiele-2/2026-04-11/
LOCATION:Ruppiner Tor\, Gransee\, Brandenburg\, 16775\, Deutschland
ORGANIZER;CN="KuNO e.V Kulturbnetz ord Brandenbrg":MAILTO:mail@karla-sachse.de
END:VEVENT
BEGIN:VEVENT
DTSTART;TZID=Europe/Berlin:20260423T190000
DTEND;TZID=Europe/Berlin:20260423T190000
DTSTAMP:20260423T212334
CREATED:20260423T120614Z
LAST-MODIFIED:20260423T120614Z
UID:25479-1776970800-1776970800@www.gransee.de
SUMMARY:Musik an der Tonstrasse
DESCRIPTION:Das Kammermusik-Festival in Oberhavel startet am Stechlinsee. Das Musikfest präsentiert „Bohemian Rhapsody“. Von Beethoven bis Korngold. Hochkarätige Musikerinnen und Musiker lassen die musikalischen Verbindungen des faszinierenden Kulturraums Böhmen\, Mähren und Wien erklingen. Informationen und Kartenreservierung:  www.musikandertonstrasse.de oder 0173-5801258
URL:https://www.gransee.de/event/musik-an-der-tonstrasse-7/
LOCATION:Stechlinsee-Center\, Stechlinseestraße 17\, Stechlin OT Neuglobsow\, Brandenburg\, 16775\, Deutschland
END:VEVENT
END:VCALENDAR